BEGIN:VCALENDAR
VERSION:2.0
PRODID:-//Squarespace Inc/Squarespace 6//v6//EN
BEGIN:VEVENT
UID:55f9f935e4b0d0a2bf300981@squarespace.com
DTSTAMP:20150916T232246Z
DTSTART:20151014T210000Z
DTEND:20151014T233000Z
SUMMARY:Q ANZAC 100 – Inquiring Minds
GEO:-27.471498;153.01701
LOCATION:State Library of Queensland\, Stanley Place\, South Brisbane\, QLD
 \, 4101\, Australia
END:VEVENT
END:VCALENDAR
