BEGIN:VCALENDAR
VERSION:2.0
PRODID:-//Squarespace Inc/Squarespace 6//v6//EN
BEGIN:VEVENT
UID:560a5e56e4b080a0fd5bc5ef@squarespace.com
DTSTAMP:20150929T095147Z
DTSTART:20151018T173000Z
DTEND:20151018T193000Z
SUMMARY:Celebrating 10 Years of the May Gibbs Children’s Literature Trust i
 n Queensland
GEO:-27.465663;153.028107
LOCATION:Rothbury on Ann Hotel\, 301 Ann Street\, Brisbane\, QLD\, 4000\, A
 ustralia
END:VEVENT
END:VCALENDAR
