BEGIN:VCALENDAR
VERSION:2.0
PRODID:-//Squarespace Inc/Squarespace 6//v6//EN
BEGIN:VEVENT
UID:557eb410e4b07284936f74cd@squarespace.com
DTSTAMP:20150818T112115Z
DTSTART:20151019T123000Z
DTEND:20151019T193000Z
SUMMARY:Future Libraries Conference
GEO:-27.487272;152.980561
LOCATION:QLD Academies\, 78 Bywong St\, Toowong\, QLD\, 4066\, Australia
END:VEVENT
END:VCALENDAR
