BEGIN:VCALENDAR
VERSION:2.0
PRODID:-//Squarespace Inc/Squarespace 6//v6//EN
BEGIN:VEVENT
UID:557eb6dfe4b071274fc66a15@squarespace.com
DTSTAMP:20150803T111154Z
DTSTART:20151028T170000Z
DTEND:20151028T190000Z
SUMMARY:Newnet Term 4 Meeting
GEO:-27.458267;153.023193
LOCATION:St Joseph’s Gregory Terrace\, Gregory Terrace\, Spring Hill\, QLD\
 , 4000\, Australia
END:VEVENT
END:VCALENDAR
