BEGIN:VCALENDAR
VERSION:2.0
PRODID:-//Squarespace Inc/Squarespace 6//v6//EN
BEGIN:VEVENT
UID:56399336e4b00aaa0fe49f30@squarespace.com
DTSTAMP:20151104T051211Z
DTSTART:20151118T153000Z
DTEND:20151118T163000Z
SUMMARY:Ctrl+Alt+Fun! Webinar
END:VEVENT
END:VCALENDAR
