BEGIN:VCALENDAR
VERSION:2.0
PRODID:-//Squarespace Inc/Squarespace 6//v6//EN
BEGIN:VEVENT
UID:5551e14fe4b0a8012c69f05c@squarespace.com
DTSTAMP:20150603T101453Z
DTSTART:20151119T000000Z
DTEND:20151119T010000Z
SUMMARY:QSLA Teleconference Council Meeting
END:VEVENT
END:VCALENDAR
