BEGIN:VCALENDAR
VERSION:2.0
PRODID:-//Squarespace Inc/Squarespace 6//v6//EN
BEGIN:VEVENT
UID:558a8be2e4b0dae1a3de1612@squarespace.com
DTSTAMP:20150819T033236Z
DTSTART:20151121T150000Z
DTEND:20151121T210000Z
SUMMARY:FAIR: School Libraries Collaboration F2F Meeting
END:VEVENT
END:VCALENDAR
