BEGIN:VCALENDAR
VERSION:2.0
PRODID:-//Squarespace Inc/Squarespace 6//v6//EN
BEGIN:VEVENT
UID:563aa673e4b05e597efd1835@squarespace.com
DTSTAMP:20151109T040755Z
DTSTART:20151125T180000Z
DTEND:20151125T203000Z
SUMMARY:Avid Reader Bookshop
END:VEVENT
END:VCALENDAR
