BEGIN:VCALENDAR
VERSION:2.0
PRODID:-//Squarespace Inc/Squarespace 6//v6//EN
BEGIN:VEVENT
UID:557eb9bae4b07284936f84f7@squarespace.com
DTSTAMP:20150803T111315Z
DTSTART:20151104T203000Z
DTEND:20151104T223000Z
SUMMARY:QSLA Brisbane Subcommittee Term 4 Meeting
GEO:-27.359858;153.065939
LOCATION:St Joseph's Nudgee College\, 2199 Sandgate Rd\, Boondall\, QLD\, 4
 034\, Australia
END:VEVENT
END:VCALENDAR
