BEGIN:VCALENDAR
VERSION:2.0
PRODID:-//Squarespace Inc/Squarespace 6//v6//EN
BEGIN:VEVENT
UID:5660e776e4b0ae1476a96c8e@squarespace.com
DTSTAMP:20151204T011017Z
DTSTART:20151217T153000Z
DTEND:20151217T203000Z
SUMMARY:THE GREAT HOLIDAY BOOK SWAP
END:VEVENT
END:VCALENDAR
