BEGIN:VCALENDAR
VERSION:2.0
PRODID:-//Squarespace Inc/Squarespace 6//v6//EN
BEGIN:VEVENT
UID:5551e093e4b01b9c9d2de93c@squarespace.com
DTSTAMP:20150622T023323Z
DTSTART:20151018T130000Z
DTEND:20151018T210000Z
SUMMARY:QSLA Face-to-Face Council Meeting
END:VEVENT
END:VCALENDAR
