BEGIN:VCALENDAR
VERSION:2.0
PRODID:-//Squarespace Inc/Squarespace 6//v6//EN
BEGIN:VEVENT
UID:5551de37e4b0d64861a9f92f@squarespace.com
DTSTAMP:20150603T101506Z
DTSTART:20150513T230000Z
DTEND:20150514T000000Z
SUMMARY:QSLA Teleconference Council Meeting
END:VEVENT
END:VCALENDAR
