BEGIN:VCALENDAR
VERSION:2.0
PRODID:-//Squarespace Inc/Squarespace 6//v6//EN
BEGIN:VEVENT
UID:55631de0e4b063086318b168@squarespace.com
DTSTAMP:20150603T101524Z
DTSTART:20150527T164500Z
DTEND:20150527T191500Z
SUMMARY:Logan Network Meeting
END:VEVENT
END:VCALENDAR
