BEGIN:VCALENDAR
VERSION:2.0
PRODID:-//Squarespace Inc/Squarespace 6//v6//EN
BEGIN:VEVENT
UID:55631cbde4b0d171d4edd8a0@squarespace.com
DTSTAMP:20150525T131132Z
DTSTART:20150528T220000Z
DTEND:20150530T000000Z
SUMMARY:Gold Coast Network Catch Up
END:VEVENT
END:VCALENDAR
