BEGIN:VCALENDAR
VERSION:2.0
PRODID:-//Squarespace Inc/Squarespace 6//v6//EN
BEGIN:VEVENT
UID:55631bc1e4b0e65363e7d922@squarespace.com
DTSTAMP:20150525T131001Z
DTSTART:20150601T123000Z
DTEND:20150601T183000Z
SUMMARY:PD Session 3: Using children's fiction to introduce globe and mappi
 ng skills
GEO:-26.402109;153.100939
LOCATION:Sunshine Beach State School\, 269 David Low Way\, Sunshine Beach\, 
 QLD\, 4567
END:VEVENT
END:VCALENDAR
