BEGIN:VCALENDAR
VERSION:2.0
PRODID:-//Squarespace Inc/Squarespace 6//v6//EN
BEGIN:VEVENT
UID:5551df0ce4b0a69c091462ff@squarespace.com
DTSTAMP:20150603T101357Z
DTSTART:20150620T130000Z
DTEND:20150620T210000Z
SUMMARY:QSLA Face-to-Face Council Meeting
END:VEVENT
END:VCALENDAR
