BEGIN:VCALENDAR
VERSION:2.0
PRODID:-//Squarespace Inc/Squarespace 6//v6//EN
BEGIN:VEVENT
UID:557eb8ffe4b0d40fa1ab1a9f@squarespace.com
DTSTAMP:20150803T111038Z
DTSTART:20150902T193000Z
DTEND:20150902T213000Z
SUMMARY:QSLA Brisbane Subcommittee Meeting Term 3
GEO:-27.458523;153.019694
LOCATION:Brisbane Girls’ Grammar School\, 70 Gregory Terrace\, Spring Hill\
 , QLD\, 4000\, Australia
END:VEVENT
END:VCALENDAR
