BEGIN:VCALENDAR
VERSION:2.0
PRODID:-//Squarespace Inc/Squarespace 6//v6//EN
BEGIN:VEVENT
UID:5551db36e4b0e19eaeacd0b1@squarespace.com
DTSTAMP:20150603T101345Z
DTSTART:20150602T130000Z
DTEND:20150603T200000Z
SUMMARY:EduTECH K-12 Library Managers Congress
GEO:-27.478506;153.018825
LOCATION:Brisbane Convention & Exhibition Centre\, Merivale Street & Glenel
 g Street\, South Brisbane QLD 4101\, Australia
END:VEVENT
END:VCALENDAR
