BEGIN:VCALENDAR
VERSION:2.0
PRODID:-//Squarespace Inc/Squarespace 6//v6//EN
BEGIN:VEVENT
UID:558a8f3de4b001b8b7490311@squarespace.com
DTSTAMP:20150624T215803Z
DTSTART:20150625T220000Z
DTEND:20150626T000000Z
SUMMARY:Inaugural Book Links Lecture in Children's Literature
GEO:-27.471498;153.01701
LOCATION:State Library of Queensland\, Stanley Pl\, South Brisbane\, QLD\, 
 4101\, Australia
END:VEVENT
END:VCALENDAR
