BEGIN:VCALENDAR
VERSION:2.0
PRODID:-//Squarespace Inc/Squarespace 6//v6//EN
BEGIN:VEVENT
UID:5551e003e4b07366a2415523@squarespace.com
DTSTAMP:20150603T101409Z
DTSTART:20150722T230000Z
DTEND:20150723T000000Z
SUMMARY:QSLA Teleconference Council Meeting
END:VEVENT
END:VCALENDAR
