BEGIN:VCALENDAR
VERSION:2.0
PRODID:-//Squarespace Inc/Squarespace 6//v6//EN
BEGIN:VEVENT
UID:557eb04ae4b047068612ddef@squarespace.com
DTSTAMP:20150615T110934Z
DTSTART:20150724T123000Z
DTEND:20150724T193000Z
SUMMARY:UQL Cyberschool Seminar
GEO:-27.495656;153.017974
LOCATION:The College Playhouse\, The Women’s College\, Sir William Macgrego
 r Dr\, St Lucia\, QLD\, 4067\, Australia
END:VEVENT
END:VCALENDAR
