BEGIN:VCALENDAR
VERSION:2.0
PRODID:-//Squarespace Inc/Squarespace 6//v6//EN
BEGIN:VEVENT
UID:55951a0ee4b099fe4897b133@squarespace.com
DTSTAMP:20150720T023203Z
DTSTART:20150729T200000Z
DTEND:20150729T221500Z
SUMMARY:QSLA Brand Launch and PD Event at SLQ
GEO:-27.471498;153.01701
LOCATION:State Library of Queensland\, Stanley Pl\, South Brisbane\, QLD\, 
 4101\, Australia
END:VEVENT
END:VCALENDAR
