BEGIN:VCALENDAR
VERSION:2.0
PRODID:-//Squarespace Inc/Squarespace 6//v6//EN
BEGIN:VEVENT
UID:557ead85e4b0fd931dc8439a@squarespace.com
DTSTAMP:20150615T105142Z
DTSTART:20150731T110000Z
DTEND:20150731T120000Z
SUMMARY:CSER F-6 Digital Technologies - FREE PD
END:VEVENT
END:VCALENDAR
