BEGIN:VCALENDAR
VERSION:2.0
PRODID:-//Squarespace Inc/Squarespace 6//v6//EN
BEGIN:VEVENT
UID:5551e052e4b059dd1370a486@squarespace.com
DTSTAMP:20150817T094800Z
DTSTART:20150826T230000Z
DTEND:20150827T000000Z
SUMMARY:QSLA Teleconference Council Meeting
END:VEVENT
END:VCALENDAR
