BEGIN:VCALENDAR
VERSION:2.0
PRODID:-//Squarespace Inc/Squarespace 6//v6//EN
BEGIN:VEVENT
UID:558a8aafe4b070472286b8ac@squarespace.com
DTSTAMP:20150819T033123Z
DTSTART:20150819T230000Z
DTEND:20150820T003000Z
SUMMARY:FAIR: School Libraries Collaboration Teleconference
END:VEVENT
END:VCALENDAR
