BEGIN:VCALENDAR
VERSION:2.0
PRODID:-//Squarespace Inc/Squarespace 6//v6//EN
BEGIN:VEVENT
UID:55b8afe6e4b0fe10986e17c0@squarespace.com
DTSTAMP:20150729T105426Z
DTSTART:20150820T173000Z
DTEND:20150820T193000Z
SUMMARY:ENABLE Lognet Meeting: Term 3 2015
GEO:-27.642718;153.111703
LOCATION:Logan Central Library\, 26 Wilbur St\, Logan Central\, QLD\, 4114\
 , Australia
END:VEVENT
END:VCALENDAR
