BEGIN:VCALENDAR
VERSION:2.0
PRODID:-//Squarespace Inc/Squarespace 6//v6//EN
BEGIN:VEVENT
UID:55b8bb23e4b01341cb192c2d@squarespace.com
DTSTAMP:20150803T100112Z
DTSTART:20150821T223000Z
DTEND:20150822T013000Z
SUMMARY:2015 CBCA Book Week Dinner
GEO:-27.479652;153.015325
LOCATION:The Greek Club\, 29 Edmondstone St\, South Brisbane\, QLD\, 4101\, 
 Australia
END:VEVENT
END:VCALENDAR
