BEGIN:VCALENDAR
VERSION:2.0
PRODID:-//Squarespace Inc/Squarespace 6//v6//EN
BEGIN:VEVENT
UID:557eb784e4b0602b425fe4d5@squarespace.com
DTSTAMP:20150615T113322Z
DTSTART:20150822T123000Z
DTEND:20150828T193000Z
SUMMARY:CBCA Bookweek
END:VEVENT
END:VCALENDAR
