BEGIN:VCALENDAR
VERSION:2.0
PRODID:-//Squarespace Inc/Squarespace 6//v6//EN
BEGIN:VEVENT
UID:55b8bc01e4b0c7cc03718aed@squarespace.com
DTSTAMP:20150803T110916Z
DTSTART:20150822T140000Z
DTEND:20150822T200000Z
SUMMARY:CBCA QLD presents Two Workshops for Book Week
GEO:-27.471498;153.01701
LOCATION:State Library of Queensland\, Stanley Pl\, South Brisbane\, QLD\, 
 4101\, Australia
END:VEVENT
END:VCALENDAR
