BEGIN:VCALENDAR
VERSION:2.0
PRODID:-//Squarespace Inc/Squarespace 6//v6//EN
BEGIN:VEVENT
UID:55b8b1b7e4b083fd0d22ff13@squarespace.com
DTSTAMP:20150729T110254Z
DTSTART:20150822T140000Z
DTEND:20150822T170000Z
SUMMARY:Special Event for Children - Book Week!
GEO:-27.471498;153.01701
LOCATION:State Library of Queensland\, Stanley Pl\, South Brisbane\, QLD\, 
 4101\, Australia
END:VEVENT
END:VCALENDAR
