BEGIN:VCALENDAR
VERSION:2.0
PRODID:-//Squarespace Inc/Squarespace 6//v6//EN
BEGIN:VEVENT
UID:55d1acabe4b0c17da818235c@squarespace.com
DTSTAMP:20150817T094558Z
DTSTART:20150825T223000Z
DTEND:20150825T233000Z
SUMMARY:Author Encounter: Annie Barrows (Elanora)
GEO:-28.135934;153.451306
LOCATION:Elanora Branch Library\, Guineas Creek Rd\, Elanora\, QLD\, Austra
 lia
END:VEVENT
END:VCALENDAR
