BEGIN:VCALENDAR
VERSION:2.0
PRODID:-//Squarespace Inc/Squarespace 6//v6//EN
BEGIN:VEVENT
UID:55d1ac4ce4b000da57bfdb71@squarespace.com
DTSTAMP:20150817T095012Z
DTSTART:20150825T170000Z
DTEND:20150825T180000Z
SUMMARY:Author Encounter: Annie Barrows (Robina)
GEO:-28.075913;153.381065
LOCATION:Robina Branch Library\, 196 Robina Town Centre Dr\, Robina\, QLD\, 
 4226\, Australia
END:VEVENT
END:VCALENDAR
