BEGIN:VCALENDAR
VERSION:2.0
PRODID:-//Squarespace Inc/Squarespace 6//v6//EN
BEGIN:VEVENT
UID:558a1f32e4b081d1c28988eb@squarespace.com
DTSTAMP:20150624T032020Z
DTSTART:20150803T193000Z
DTEND:20150805T220000Z
SUMMARY:QSLA Capricornia Subcommittee PD: Lively Libraries Twilight
GEO:-23.350373;150.521638
LOCATION:Emmaus College Yaamba\, 185 Main Street\, North Rockhampton QLD 47
 01
END:VEVENT
END:VCALENDAR
