BEGIN:VCALENDAR
VERSION:2.0
PRODID:-//Squarespace Inc/Squarespace 6//v6//EN
BEGIN:VEVENT
UID:55e4287ee4b0b03c5e7587d1@squarespace.com
DTSTAMP:20150929T095057Z
DTSTART:20151010T130000Z
DTEND:20151010T190000Z
SUMMARY:Andrew Churches in Cairns PD Event
GEO:-16.924436;145.779829
LOCATION:Pullman Reef Hotel Casino\, 35-41 Wharf Street\, cairns\, QLD\, 48
 70\, Australia
END:VEVENT
END:VCALENDAR
