BEGIN:VCALENDAR
VERSION:2.0
PRODID:-//Squarespace Inc/Squarespace 6//v6//EN
BEGIN:VEVENT
UID:557eb626e4b020deb8e65afc@squarespace.com
DTSTAMP:20150615T112812Z
DTSTART:20150805T170000Z
DTEND:20150805T190000Z
SUMMARY:Newnet Term 3 Meeting
GEO:-27.480528;153.011891
LOCATION:Avid Reader\, 193 Boundary St\, West End\, QLD\, 4101\, Australia
END:VEVENT
END:VCALENDAR
