BEGIN:VCALENDAR
VERSION:2.0
PRODID:-//Squarespace Inc/Squarespace 6//v6//EN
BEGIN:VEVENT
UID:55bf3cc6e4b0ce7aa05f9df6@squarespace.com
DTSTAMP:20150803T100834Z
DTSTART:20150807T124500Z
DTEND:20150807T191500Z
SUMMARY: “It’s a Digital World: a day for Teacher Librarians\, School Libra
 ry Managers\, Librarians and Library Teams”
GEO:-37.815018;144.946008
LOCATION:Etihad Stadium\, Limelight Room\, Docklands\, VIC
END:VEVENT
END:VCALENDAR
