BEGIN:VCALENDAR
VERSION:2.0
PRODID:-//Squarespace Inc/Squarespace 6//v6//EN
BEGIN:VEVENT
UID:55d1a71ce4b0c6e68f7b1791@squarespace.com
DTSTAMP:20150903T121225Z
DTSTART:20150901T223000Z
DTEND:20150902T003000Z
SUMMARY:Step into Stories: Literary Dinner
GEO:-27.56678;151.96719
LOCATION:The Glennie School\, Herries St\, East Toowoomba\, QLD\, 4350\, Au
 stralia
END:VEVENT
END:VCALENDAR
