BEGIN:VCALENDAR
VERSION:2.0
PRODID:-//Squarespace Inc/Squarespace 6//v6//EN
BEGIN:VEVENT
UID:5551e22be4b0471a840b5fcd@squarespace.com
DTSTAMP:20150903T120442Z
DTSTART:20150911T130000Z
DTEND:20150914T210000Z
SUMMARY:StoryArts Festival Ipswich Conference
END:VEVENT
END:VCALENDAR
