BEGIN:VCALENDAR
VERSION:2.0
PRODID:-//Squarespace Inc/Squarespace 6//v6//EN
BEGIN:VEVENT
UID:55e42697e4b0b03c5e7583fa@squarespace.com
DTSTAMP:20150831T100521Z
DTSTART:20150902T193000Z
DTEND:20150902T203000Z
SUMMARY:The QLSA Brisbane Subcommittee invites you to tour Brisbane Girls G
 rammar School's new Library and Learning Centre
GEO:-27.458267;153.023193
LOCATION:Brisbane Girls Grammar School\, Gregory Terrace\, Spring Hill\, QL
 D\, 4000\, Australia
END:VEVENT
END:VCALENDAR
