BEGIN:VCALENDAR
VERSION:2.0
PRODID:-//Squarespace Inc/Squarespace 6//v6//EN
BEGIN:VEVENT
UID:557eb819e4b069fd29c43e21@squarespace.com
DTSTAMP:20150615T113719Z
DTSTART:20150902T123000Z
DTEND:20150904T210000Z
SUMMARY:Wordplay\, Brisbane Writer’s Festival 
END:VEVENT
END:VCALENDAR
