BEGIN:VCALENDAR
VERSION:2.0
PRODID:-//Squarespace Inc/Squarespace 6//v6//EN
BEGIN:VEVENT
UID:55e427a5e4b02d84f4b22e09@squarespace.com
DTSTAMP:20150831T101053Z
DTSTART:20150903T200000Z
DTEND:20150903T213000Z
SUMMARY:MakerSpaces Workshop
GEO:-27.45966;153.018042
LOCATION:Brisbane Grammar School\, 24 Gregory Terrace\, Spring Hill\, QLD\, 
 4000\, Australia
END:VEVENT
END:VCALENDAR
