BEGIN:VCALENDAR
VERSION:2.0
PRODID:-//Squarespace Inc/Squarespace 6//v6//EN
BEGIN:VEVENT
UID:56dd2e3f4c2f858cb43943c9@squarespace.com
DTSTAMP:20160307T073111Z
DTSTART:20161016T130000Z
DTEND:20161016T210000Z
SUMMARY:QSLA State Committee Face-to-Face Meeting
END:VEVENT
END:VCALENDAR
