BEGIN:VCALENDAR
VERSION:2.0
PRODID:-//Squarespace Inc/Squarespace 6//v6//EN
BEGIN:VEVENT
UID:56dd2dd3f85082e7fccdb6a8@squarespace.com
DTSTAMP:20160907T012759Z
DTSTART:20161017T130000Z
DTEND:20161017T190000Z
SUMMARY:Creating Future Libraries Conference
END:VEVENT
END:VCALENDAR
