BEGIN:VCALENDAR
VERSION:2.0
PRODID:-//Squarespace Inc/Squarespace 6//v6//EN
BEGIN:VEVENT
UID:57a988be5016e10950e9c9f4@squarespace.com
DTSTAMP:20160809T074515Z
DTSTART:20161019T133000Z
DTEND:20161019T193000Z
SUMMARY:FREE Code Club Teacher Training Day - GOLD COAST
GEO:-27.927106;153.358853
LOCATION:A B Paterson College\, 10 A B Paterson Drive\, Arundel\, QLD\, 421
 4\, Australia
END:VEVENT
END:VCALENDAR
