BEGIN:VCALENDAR
VERSION:2.0
PRODID:-//Squarespace Inc/Squarespace 6//v6//EN
BEGIN:VEVENT
UID:57a987e6579fb3835f5d3339@squarespace.com
DTSTAMP:20160809T073713Z
DTSTART:20161021T170000Z
DTEND:20161021T180000Z
SUMMARY:Ipswich District Teacher Librarian Network (Primary)
END:VEVENT
END:VCALENDAR
