BEGIN:VCALENDAR
VERSION:2.0
PRODID:-//Squarespace Inc/Squarespace 6//v6//EN
BEGIN:VEVENT
UID:58004f05414fb5dfd13a6797@squarespace.com
DTSTAMP:20161014T151016Z
DTSTART:20161026T200000Z
DTEND:20161026T223000Z
SUMMARY:How to ROCK your Library:Excellent ideas to support & advocate the 
 library
GEO:-27.459323;153.017421
LOCATION:Brisbane Grammar School\, 24 Gregory Terrace\, Spring Hill\, QLD\, 
 4000\, Australia
END:VEVENT
END:VCALENDAR
