BEGIN:VCALENDAR
VERSION:2.0
PRODID:-//Squarespace Inc/Squarespace 6//v6//EN
BEGIN:VEVENT
UID:56dd32d2e32140a33479a566@squarespace.com
DTSTAMP:20160307T075212Z
DTSTART:20161026T130000Z
DTEND:20161030T190000Z
SUMMARY:Ubud Writers' and Readers' Festival - Bali
END:VEVENT
END:VCALENDAR
