BEGIN:VCALENDAR
VERSION:2.0
PRODID:-//Squarespace Inc/Squarespace 6//v6//EN
BEGIN:VEVENT
UID:57a986a55016e10950e9c2c4@squarespace.com
DTSTAMP:20160809T073209Z
DTSTART:20161007T180000Z
DTEND:20161007T190000Z
SUMMARY:Ipswich District Teacher Librarian Network (Primary)
END:VEVENT
END:VCALENDAR
