BEGIN:VCALENDAR
VERSION:2.0
PRODID:-//Squarespace Inc/Squarespace 6//v6//EN
BEGIN:VEVENT
UID:57cbe3c92994ca4d3c0fd429@squarespace.com
DTSTAMP:20160904T090556Z
DTSTART:20161101T093000Z
DTEND:20161101T103000Z
SUMMARY:QSLA Newsletter DEADLINE
END:VEVENT
END:VCALENDAR
