BEGIN:VCALENDAR
VERSION:2.0
PRODID:-//Squarespace Inc/Squarespace 6//v6//EN
BEGIN:VEVENT
UID:5800f5c25016e1907a3447ea@squarespace.com
DTSTAMP:20161014T152015Z
DTSTART:20161118T173000Z
DTEND:20161118T203000Z
SUMMARY:Ipswich District Teacher Librarian Network (Primary) 
END:VEVENT
END:VCALENDAR
